BEGIN:VCALENDAR
VERSION:2.0
PRODID:-//www.rmdc.net//NONSGML kigkonsult.se iCalcreator 2.30.10//
CALSCALE:GREGORIAN
METHOD:PUBLISH
UID:05c87d9b-2527-4986-832b-b93334559ed6
X-WR-CALDESC:
X-WR-RELCALID:47f0a320412e3f89f50fd5a951f89adf
X-WR-TIMEZONE:America/Denver
BEGIN:VTIMEZONE
TZID:America/Denver
BEGIN:STANDARD
TZNAME:MST
DTSTART:20181104T020000
TZOFFSETFROM:-0600
TZOFFSETTO:-0700
RDATE:20191103T020000
END:STANDARD
BEGIN:DAYLIGHT
TZNAME:MDT
DTSTART:20190310T020000
TZOFFSETFROM:-0700
TZOFFSETTO:-0600
RDATE:20200308T020000
END:DAYLIGHT
END:VTIMEZONE
BEGIN:VEVENT
UID:664765e7-bc40-425a-9f4a-0a79b3f773d4
DTSTAMP:20260424T225442Z
DESCRIPTION:
DTSTART;TZID=America/Denver:20190313T100000
DTEND;TZID=America/Denver:20190313T110000
LOCATION:Neighborhood Center Card Room
SUMMARY:Self Directed Exercise Class
END:VEVENT
END:VCALENDAR
