BEGIN:VCALENDAR
VERSION:2.0
PRODID:-//www.rmdc.net//NONSGML kigkonsult.se iCalcreator 2.30.10//
CALSCALE:GREGORIAN
METHOD:PUBLISH
UID:6f2d2bd5-7f67-46b3-b815-d4842bd564ea
X-WR-CALDESC:
X-WR-RELCALID:82c91904ede62d8845037557456744f6
X-WR-TIMEZONE:America/Denver
BEGIN:VTIMEZONE
TZID:America/Denver
BEGIN:STANDARD
TZNAME:MST
DTSTART:20181104T020000
TZOFFSETFROM:-0600
TZOFFSETTO:-0700
RDATE:20191103T020000
END:STANDARD
BEGIN:DAYLIGHT
TZNAME:MDT
DTSTART:20190310T020000
TZOFFSETFROM:-0700
TZOFFSETTO:-0600
RDATE:20200308T020000
END:DAYLIGHT
END:VTIMEZONE
BEGIN:VEVENT
UID:6e453a88-97a7-433a-bbe7-87cc9065849c
DTSTAMP:20260424T230933Z
DESCRIPTION:
DTSTART;TZID=America/Denver:20190314T093000
DTEND;TZID=America/Denver:20190314T110000
LOCATION:Neighborhood Center Dining Room
SUMMARY:Blood Pressure Clinic
END:VEVENT
END:VCALENDAR
