BEGIN:VCALENDAR
VERSION:2.0
PRODID:-//www.rmdc.net//NONSGML kigkonsult.se iCalcreator 2.30.10//
CALSCALE:GREGORIAN
METHOD:PUBLISH
UID:13281c91-dabe-40f3-808e-a8c3ad2a7963
X-WR-CALDESC:
X-WR-RELCALID:c48490683dba8dc028e0e7d7e5c74b45
X-WR-TIMEZONE:America/Denver
BEGIN:VTIMEZONE
TZID:America/Denver
BEGIN:STANDARD
TZNAME:MST
DTSTART:20181104T020000
TZOFFSETFROM:-0600
TZOFFSETTO:-0700
RDATE:20191103T020000
END:STANDARD
BEGIN:DAYLIGHT
TZNAME:MDT
DTSTART:20190310T020000
TZOFFSETFROM:-0700
TZOFFSETTO:-0600
RDATE:20200308T020000
END:DAYLIGHT
END:VTIMEZONE
BEGIN:VEVENT
UID:a2aaf22e-d129-44be-bf0d-aeb586eede2d
DTSTAMP:20260424T230319Z
DESCRIPTION:
DTSTART;TZID=America/Denver:20190326T130000
DTEND;TZID=America/Denver:20190326T150000
LOCATION:Neighborhood Center Card Room & Dance Floor
SUMMARY:Cards: Pinochle\, Bridge & Cribbage
END:VEVENT
END:VCALENDAR
