BEGIN:VCALENDAR
VERSION:2.0
PRODID:-//www.rmdc.net//NONSGML kigkonsult.se iCalcreator 2.30.10//
CALSCALE:GREGORIAN
METHOD:PUBLISH
UID:9231db7e-a8ae-41e5-8100-6c9cf031daaa
X-WR-CALDESC:
X-WR-RELCALID:0cc6a6e3f07acc2de075ddb1d0bb01c6
X-WR-TIMEZONE:America/Denver
BEGIN:VTIMEZONE
TZID:America/Denver
BEGIN:STANDARD
TZNAME:MST
DTSTART:20181104T020000
TZOFFSETFROM:-0600
TZOFFSETTO:-0700
RDATE:20191103T020000
END:STANDARD
BEGIN:DAYLIGHT
TZNAME:MDT
DTSTART:20190310T020000
TZOFFSETFROM:-0700
TZOFFSETTO:-0600
RDATE:20200308T020000
END:DAYLIGHT
END:VTIMEZONE
BEGIN:VEVENT
UID:f3ed97a5-9efc-4b6f-9e54-a99f6a90fbd5
DTSTAMP:20260424T225625Z
DESCRIPTION:
DTSTART;TZID=America/Denver:20190328T093000
DTEND;TZID=America/Denver:20190328T110000
LOCATION:Neighborhood Center Dance Floor
SUMMARY:Line Dancing
END:VEVENT
END:VCALENDAR
