BEGIN:VCALENDAR
VERSION:2.0
PRODID:-//www.rmdc.net//NONSGML kigkonsult.se iCalcreator 2.30.10//
CALSCALE:GREGORIAN
METHOD:PUBLISH
UID:b69ed3e7-2470-4b77-8f1b-ce076a96181c
X-WR-CALDESC:
X-WR-RELCALID:b2bdd25190f43cf4c6092936b8c5a4c3
X-WR-TIMEZONE:America/Denver
BEGIN:VTIMEZONE
TZID:America/Denver
BEGIN:STANDARD
TZNAME:MST
DTSTART:20181104T020000
TZOFFSETFROM:-0600
TZOFFSETTO:-0700
RDATE:20191103T020000
END:STANDARD
BEGIN:DAYLIGHT
TZNAME:MDT
DTSTART:20190310T020000
TZOFFSETFROM:-0700
TZOFFSETTO:-0600
RDATE:20200308T020000
END:DAYLIGHT
END:VTIMEZONE
BEGIN:VEVENT
UID:6601be40-2206-4441-b991-ef1c1cd28820
DTSTAMP:20260424T213742Z
DESCRIPTION:
DTSTART;TZID=America/Denver:20190403T104500
DTEND;TZID=America/Denver:20190403T114500
LOCATION:Neighborhood Center Card Room
SUMMARY:Tai Chi Exercise Class
END:VEVENT
END:VCALENDAR
