BEGIN:VCALENDAR
VERSION:2.0
PRODID:-//www.rmdc.net//NONSGML kigkonsult.se iCalcreator 2.30.10//
CALSCALE:GREGORIAN
METHOD:PUBLISH
UID:4a4badaf-9b38-407e-b559-39392840331a
X-WR-CALDESC:
X-WR-RELCALID:28d7b3028027d876d3fd5ca75e0ee33c
X-WR-TIMEZONE:America/Denver
BEGIN:VTIMEZONE
TZID:America/Denver
BEGIN:STANDARD
TZNAME:MST
DTSTART:20181104T020000
TZOFFSETFROM:-0600
TZOFFSETTO:-0700
RDATE:20191103T020000
END:STANDARD
BEGIN:DAYLIGHT
TZNAME:MDT
DTSTART:20190310T020000
TZOFFSETFROM:-0700
TZOFFSETTO:-0600
RDATE:20200308T020000
END:DAYLIGHT
END:VTIMEZONE
BEGIN:VEVENT
UID:559d2234-eaee-4f90-af6a-ee1d696af280
DTSTAMP:20260424T213827Z
DESCRIPTION:
DTSTART;TZID=America/Denver:20190405T104500
DTEND;TZID=America/Denver:20190405T114500
LOCATION:Neighborhood Center Card Room
SUMMARY:Tai Chi exercise Class
END:VEVENT
END:VCALENDAR
