BEGIN:VCALENDAR
VERSION:2.0
PRODID:-//www.rmdc.net//NONSGML kigkonsult.se iCalcreator 2.30.10//
CALSCALE:GREGORIAN
METHOD:PUBLISH
UID:02a97b8c-d545-44d8-bc27-eecffecfb816
X-WR-CALDESC:
X-WR-RELCALID:cf255d59f0d48dfe0256424f7a58e81e
X-WR-TIMEZONE:America/Denver
BEGIN:VTIMEZONE
TZID:America/Denver
BEGIN:STANDARD
TZNAME:MST
DTSTART:20181104T020000
TZOFFSETFROM:-0600
TZOFFSETTO:-0700
RDATE:20191103T020000
END:STANDARD
BEGIN:DAYLIGHT
TZNAME:MDT
DTSTART:20190310T020000
TZOFFSETFROM:-0700
TZOFFSETTO:-0600
RDATE:20200308T020000
END:DAYLIGHT
END:VTIMEZONE
BEGIN:VEVENT
UID:b6c14266-1aab-41bd-b7dc-90c73421a124
DTSTAMP:20260424T214006Z
DESCRIPTION:
DTSTART;TZID=America/Denver:20190409T130000
DTEND;TZID=America/Denver:20190409T150000
LOCATION:Neighborhood Center Card Room & Dance Floor
SUMMARY:Cards: Pinochle\, Bridge & Cribbage
END:VEVENT
END:VCALENDAR
