BEGIN:VCALENDAR
VERSION:2.0
PRODID:-//www.rmdc.net//NONSGML kigkonsult.se iCalcreator 2.30.10//
CALSCALE:GREGORIAN
METHOD:PUBLISH
UID:b21f80dd-b8c4-40b8-b9d8-0d61491e7f8f
X-WR-CALDESC:
X-WR-RELCALID:994e92c9b6a44cfd9ef18f3de7348938
X-WR-TIMEZONE:America/Denver
BEGIN:VTIMEZONE
TZID:America/Denver
BEGIN:STANDARD
TZNAME:MST
DTSTART:20181104T020000
TZOFFSETFROM:-0600
TZOFFSETTO:-0700
RDATE:20191103T020000
END:STANDARD
BEGIN:DAYLIGHT
TZNAME:MDT
DTSTART:20190310T020000
TZOFFSETFROM:-0700
TZOFFSETTO:-0600
RDATE:20200308T020000
END:DAYLIGHT
END:VTIMEZONE
BEGIN:VEVENT
UID:d29c1e77-3f5c-4da5-a469-56d5ba58ec7d
DTSTAMP:20260424T213949Z
DESCRIPTION:
DTSTART;TZID=America/Denver:20190411T130000
DTEND;TZID=America/Denver:20190411T140000
LOCATION:Neighborhood Center Dance Floor
SUMMARY:Wood Carving
END:VEVENT
END:VCALENDAR
