BEGIN:VCALENDAR
VERSION:2.0
PRODID:-//www.rmdc.net//NONSGML kigkonsult.se iCalcreator 2.30.10//
CALSCALE:GREGORIAN
METHOD:PUBLISH
UID:dddd4210-8f42-4657-b8f8-8a69a8af0e5a
X-WR-CALDESC:
X-WR-RELCALID:bf5a2af395671b8df3cb3e5084b16477
X-WR-TIMEZONE:America/Denver
BEGIN:VTIMEZONE
TZID:America/Denver
BEGIN:STANDARD
TZNAME:MST
DTSTART:20181104T020000
TZOFFSETFROM:-0600
TZOFFSETTO:-0700
RDATE:20191103T020000
END:STANDARD
BEGIN:DAYLIGHT
TZNAME:MDT
DTSTART:20190310T020000
TZOFFSETFROM:-0700
TZOFFSETTO:-0600
RDATE:20200308T020000
END:DAYLIGHT
END:VTIMEZONE
BEGIN:VEVENT
UID:0690572c-e6d0-4bef-9544-0f6fad9a89bf
DTSTAMP:20260424T214021Z
DESCRIPTION:
DTSTART;TZID=America/Denver:20190418T080000
DTEND;TZID=America/Denver:20190418T140000
LOCATION:Neighborhood Center - Room 15
SUMMARY:Hearing Aid Clinic
END:VEVENT
END:VCALENDAR
