BEGIN:VCALENDAR
VERSION:2.0
PRODID:-//www.rmdc.net//NONSGML kigkonsult.se iCalcreator 2.30.10//
CALSCALE:GREGORIAN
METHOD:PUBLISH
UID:4e4b429e-fc4f-4f92-b611-bc01c1629bcc
X-WR-CALDESC:
X-WR-RELCALID:18be9a2852478f22d30e6fbe14f9bce1
X-WR-TIMEZONE:America/Denver
BEGIN:VTIMEZONE
TZID:America/Denver
BEGIN:STANDARD
TZNAME:MST
DTSTART:20181104T020000
TZOFFSETFROM:-0600
TZOFFSETTO:-0700
RDATE:20191103T020000
END:STANDARD
BEGIN:DAYLIGHT
TZNAME:MDT
DTSTART:20190310T020000
TZOFFSETFROM:-0700
TZOFFSETTO:-0600
RDATE:20200308T020000
END:DAYLIGHT
END:VTIMEZONE
BEGIN:VEVENT
UID:a320ded2-7e91-41cb-b080-cce0cb996482
DTSTAMP:20260424T213853Z
DESCRIPTION:
DTSTART;TZID=America/Denver:20190428T130000
DTEND;TZID=America/Denver:20190428T140000
LOCATION:Neighborhood Center Card Room
SUMMARY:Pinochle
END:VEVENT
END:VCALENDAR
