BEGIN:VCALENDAR
VERSION:2.0
PRODID:-//www.rmdc.net//NONSGML kigkonsult.se iCalcreator 2.30.10//
CALSCALE:GREGORIAN
METHOD:PUBLISH
UID:673f0f5e-4e21-444f-8c1c-357c3d923526
X-WR-CALDESC:
X-WR-RELCALID:9d6e0d6da4fac98b20f759336362f968
X-WR-TIMEZONE:America/Denver
BEGIN:VTIMEZONE
TZID:America/Denver
BEGIN:STANDARD
TZNAME:MST
DTSTART:20181104T020000
TZOFFSETFROM:-0600
TZOFFSETTO:-0700
RDATE:20191103T020000
END:STANDARD
BEGIN:DAYLIGHT
TZNAME:MDT
DTSTART:20190310T020000
TZOFFSETFROM:-0700
TZOFFSETTO:-0600
RDATE:20200308T020000
END:DAYLIGHT
END:VTIMEZONE
BEGIN:VEVENT
UID:b4f14015-a989-48c6-88bf-d8415247795f
DTSTAMP:20260424T202148Z
DESCRIPTION:
DTSTART;TZID=America/Denver:20190502T130000
DTEND;TZID=America/Denver:20190502T140000
LOCATION:Neighborhood Center Dance Floor/Dining Room
SUMMARY:Helena Sketchers
END:VEVENT
END:VCALENDAR
