BEGIN:VCALENDAR
VERSION:2.0
PRODID:-//www.rmdc.net//NONSGML kigkonsult.se iCalcreator 2.30.10//
CALSCALE:GREGORIAN
METHOD:PUBLISH
UID:9969eb33-1040-4f4a-a2c2-53a95f177944
X-WR-CALDESC:
X-WR-RELCALID:b40f865ad7833c0dfd260589c345e61c
X-WR-TIMEZONE:America/Denver
BEGIN:VTIMEZONE
TZID:America/Denver
BEGIN:STANDARD
TZNAME:MST
DTSTART:20181104T020000
TZOFFSETFROM:-0600
TZOFFSETTO:-0700
RDATE:20191103T020000
RDATE:20201101T020000
END:STANDARD
BEGIN:DAYLIGHT
TZNAME:MDT
DTSTART:20190310T020000
TZOFFSETFROM:-0700
TZOFFSETTO:-0600
RDATE:20200308T020000
END:DAYLIGHT
END:VTIMEZONE
BEGIN:VEVENT
UID:e70e573b-3ccb-44ab-bc58-53b67de21c0e
DTSTAMP:20260424T202026Z
DESCRIPTION:
DTSTART;TZID=America/Denver:20190506T123000
DTEND;TZID=America/Denver:20190506T133000
LOCATION:Neighborhood Center Card Room
SUMMARY:Whist
END:VEVENT
END:VCALENDAR
