BEGIN:VCALENDAR
VERSION:2.0
PRODID:-//www.rmdc.net//NONSGML kigkonsult.se iCalcreator 2.30.10//
CALSCALE:GREGORIAN
METHOD:PUBLISH
UID:3a2b021f-5168-423b-b961-d39a01bde9c0
X-WR-CALDESC:
X-WR-RELCALID:a3e526f976cf975a2cec530ba37ddf3e
X-WR-TIMEZONE:America/Denver
BEGIN:VTIMEZONE
TZID:America/Denver
BEGIN:STANDARD
TZNAME:MST
DTSTART:20181104T020000
TZOFFSETFROM:-0600
TZOFFSETTO:-0700
RDATE:20191103T020000
RDATE:20201101T020000
END:STANDARD
BEGIN:DAYLIGHT
TZNAME:MDT
DTSTART:20190310T020000
TZOFFSETFROM:-0700
TZOFFSETTO:-0600
RDATE:20200308T020000
END:DAYLIGHT
END:VTIMEZONE
BEGIN:VEVENT
UID:406daaa0-3111-4449-a187-9d1ff407a0a1
DTSTAMP:20260424T202458Z
DESCRIPTION:
DTSTART;TZID=America/Denver:20190508T133000
DTEND;TZID=America/Denver:20190508T150000
LOCATION:
SUMMARY:Head Start Resource/Referral Sharing in Neighborhood Center
END:VEVENT
END:VCALENDAR
