BEGIN:VCALENDAR
VERSION:2.0
PRODID:-//www.rmdc.net//NONSGML kigkonsult.se iCalcreator 2.30.10//
CALSCALE:GREGORIAN
METHOD:PUBLISH
UID:c41979f2-612f-484c-8e2e-4f2debfe1b76
X-WR-CALDESC:
X-WR-RELCALID:1241f0049808cb370aefd3041e40b6dc
X-WR-TIMEZONE:America/Denver
BEGIN:VTIMEZONE
TZID:America/Denver
BEGIN:STANDARD
TZNAME:MST
DTSTART:20181104T020000
TZOFFSETFROM:-0600
TZOFFSETTO:-0700
RDATE:20191103T020000
RDATE:20201101T020000
END:STANDARD
BEGIN:DAYLIGHT
TZNAME:MDT
DTSTART:20190310T020000
TZOFFSETFROM:-0700
TZOFFSETTO:-0600
RDATE:20200308T020000
END:DAYLIGHT
END:VTIMEZONE
BEGIN:VEVENT
UID:908f0f80-8327-4959-9ca6-fc1df3323d2b
DTSTAMP:20260424T201757Z
DESCRIPTION:
DTSTART;TZID=America/Denver:20190509T080000
DTEND;TZID=America/Denver:20190509T170000
LOCATION:Three Forks
SUMMARY:Area IV Contractor Presentations
END:VEVENT
END:VCALENDAR
