BEGIN:VCALENDAR
VERSION:2.0
PRODID:-//www.rmdc.net//NONSGML kigkonsult.se iCalcreator 2.30.10//
CALSCALE:GREGORIAN
METHOD:PUBLISH
UID:d35570a9-4e1c-4f44-ab81-2b3565c5e98f
X-WR-CALDESC:Rocky and our programs will be at Snow Hop Brewery on Wednesda
 y\, May 29th for Community Night! Dos Hermanos Taco's will be there to sat
 isfy your hunger needs\, and a portion of the food and beer sales will ben
 efit Rocky and the programs we manage. Join us for a great time!
X-WR-RELCALID:2bc58cd73d9b612fe8b1fef8e5417289
X-WR-TIMEZONE:America/Denver
BEGIN:VTIMEZONE
TZID:America/Denver
BEGIN:STANDARD
TZNAME:MST
DTSTART:20181104T020000
TZOFFSETFROM:-0600
TZOFFSETTO:-0700
RDATE:20191103T020000
RDATE:20201101T020000
END:STANDARD
BEGIN:DAYLIGHT
TZNAME:MDT
DTSTART:20190310T020000
TZOFFSETFROM:-0700
TZOFFSETTO:-0600
RDATE:20200308T020000
END:DAYLIGHT
END:VTIMEZONE
BEGIN:VEVENT
UID:bd4d4a91-04fe-49fe-a43a-190c1cef966a
DTSTAMP:20260424T202218Z
DESCRIPTION:Rocky and our programs will be at Snow Hop Brewery on Wednesday
 \, May 29th for Community Night! Dos Hermanos Taco's will be there to sati
 sfy your hunger needs\, and a portion of the food and beer sales will bene
 fit Rocky and the programs we manage. Join us for a great time!
DTSTART;TZID=America/Denver:20190529T170000
DTEND;TZID=America/Denver:20190529T200000
LOCATION:Snow Hop Brewery - 685 Barney St.\, Helena\, MT\, 59602
SUMMARY:Community Night at Snow Hop Brewery
END:VEVENT
END:VCALENDAR
