BEGIN:VCALENDAR
VERSION:2.0
PRODID:-//www.rmdc.net//NONSGML kigkonsult.se iCalcreator 2.30.10//
CALSCALE:GREGORIAN
METHOD:PUBLISH
UID:0e805d91-3767-4633-b376-783532cf22b6
X-WR-CALDESC:
X-WR-RELCALID:c142c34ace552cfd7bc3b0db922c9e9a
X-WR-TIMEZONE:America/Denver
BEGIN:VTIMEZONE
TZID:America/Denver
BEGIN:STANDARD
TZNAME:MST
DTSTART:20181104T020000
TZOFFSETFROM:-0600
TZOFFSETTO:-0700
RDATE:20191103T020000
RDATE:20201101T020000
END:STANDARD
BEGIN:DAYLIGHT
TZNAME:MDT
DTSTART:20190310T020000
TZOFFSETFROM:-0700
TZOFFSETTO:-0600
RDATE:20200308T020000
END:DAYLIGHT
END:VTIMEZONE
BEGIN:VEVENT
UID:0a9aada3-f79d-49ed-807a-a23f07b60276
DTSTAMP:20260424T202053Z
DESCRIPTION:
DTSTART;TZID=America/Denver:20190529T000000
DTEND;TZID=America/Denver:20190529T235900
LOCATION:
SUMMARY:Last Day of School
END:VEVENT
END:VCALENDAR
