BEGIN:VCALENDAR
VERSION:2.0
PRODID:-//www.rmdc.net//NONSGML kigkonsult.se iCalcreator 2.30.10//
CALSCALE:GREGORIAN
METHOD:PUBLISH
UID:bbd33351-5c20-453a-bb6b-eec67869b1f8
X-WR-CALDESC:
X-WR-RELCALID:e286bc802559f2f92d898d098d7180e9
X-WR-TIMEZONE:America/Denver
BEGIN:VTIMEZONE
TZID:America/Denver
BEGIN:STANDARD
TZNAME:MST
DTSTART:20181104T020000
TZOFFSETFROM:-0600
TZOFFSETTO:-0700
RDATE:20191103T020000
RDATE:20201101T020000
END:STANDARD
BEGIN:DAYLIGHT
TZNAME:MDT
DTSTART:20190310T020000
TZOFFSETFROM:-0700
TZOFFSETTO:-0600
RDATE:20200308T020000
END:DAYLIGHT
END:VTIMEZONE
BEGIN:VEVENT
UID:398c33a7-580a-46ae-86b6-1e461fd166b8
DTSTAMP:20260424T190520Z
DESCRIPTION:
DTSTART;TZID=America/Denver:20190603T093000
DTEND;TZID=America/Denver:20190603T103000
LOCATION:Neighborhood Center Card Room
SUMMARY:Jeanie's Arthritis Foundation Exercise Class
END:VEVENT
END:VCALENDAR
