BEGIN:VCALENDAR
VERSION:2.0
PRODID:-//www.rmdc.net//NONSGML kigkonsult.se iCalcreator 2.30.10//
CALSCALE:GREGORIAN
METHOD:PUBLISH
UID:f22234c3-6415-491b-9d03-c1564a0b80be
X-WR-CALDESC:
X-WR-RELCALID:fd01e6410593beca787599ba82104591
X-WR-TIMEZONE:America/Denver
BEGIN:VTIMEZONE
TZID:America/Denver
BEGIN:STANDARD
TZNAME:MST
DTSTART:20181104T020000
TZOFFSETFROM:-0600
TZOFFSETTO:-0700
RDATE:20191103T020000
RDATE:20201101T020000
END:STANDARD
BEGIN:DAYLIGHT
TZNAME:MDT
DTSTART:20190310T020000
TZOFFSETFROM:-0700
TZOFFSETTO:-0600
RDATE:20200308T020000
END:DAYLIGHT
END:VTIMEZONE
BEGIN:VEVENT
UID:702f27d1-b19b-411d-bfcd-079bddcaa4c0
DTSTAMP:20260424T190312Z
DESCRIPTION:
DTSTART;TZID=America/Denver:20190612T104500
DTEND;TZID=America/Denver:20190612T114500
LOCATION:Neighborhood Center Card Room
SUMMARY:Tai Chi Exercise Class
END:VEVENT
END:VCALENDAR
