BEGIN:VCALENDAR
VERSION:2.0
PRODID:-//www.rmdc.net//NONSGML kigkonsult.se iCalcreator 2.30.10//
CALSCALE:GREGORIAN
METHOD:PUBLISH
UID:601d9a8d-f2dc-479d-8604-86a27ad80548
X-WR-CALDESC:
X-WR-RELCALID:5269aebcff697b9cf245b2cfe4fe8951
X-WR-TIMEZONE:America/Denver
BEGIN:VTIMEZONE
TZID:America/Denver
BEGIN:STANDARD
TZNAME:MST
DTSTART:20181104T020000
TZOFFSETFROM:-0600
TZOFFSETTO:-0700
RDATE:20191103T020000
RDATE:20201101T020000
END:STANDARD
BEGIN:DAYLIGHT
TZNAME:MDT
DTSTART:20190310T020000
TZOFFSETFROM:-0700
TZOFFSETTO:-0600
RDATE:20200308T020000
END:DAYLIGHT
END:VTIMEZONE
BEGIN:VEVENT
UID:5ffc7bed-d69f-4ecb-8c53-eff47d1f023b
DTSTAMP:20260424T190427Z
DESCRIPTION:
DTSTART;TZID=America/Denver:20190620T080000
DTEND;TZID=America/Denver:20190620T140000
LOCATION:Neighborhood Center - Room 15
SUMMARY:Hearing Aid Clinic
END:VEVENT
END:VCALENDAR
