BEGIN:VCALENDAR
VERSION:2.0
PRODID:-//www.rmdc.net//NONSGML kigkonsult.se iCalcreator 2.30.10//
CALSCALE:GREGORIAN
METHOD:PUBLISH
UID:a371ed57-4ea1-45a1-b88a-7cb2aa41055c
X-WR-CALDESC:
X-WR-RELCALID:854f52319bfccc912d1747e8754aa7e6
X-WR-TIMEZONE:America/Denver
BEGIN:VTIMEZONE
TZID:America/Denver
BEGIN:STANDARD
TZNAME:MST
DTSTART:20181104T020000
TZOFFSETFROM:-0600
TZOFFSETTO:-0700
RDATE:20191103T020000
RDATE:20201101T020000
END:STANDARD
BEGIN:DAYLIGHT
TZNAME:MDT
DTSTART:20190310T020000
TZOFFSETFROM:-0700
TZOFFSETTO:-0600
RDATE:20200308T020000
END:DAYLIGHT
END:VTIMEZONE
BEGIN:VEVENT
UID:29544c57-b4bc-464c-89e9-303588ddd26b
DTSTAMP:20260424T190140Z
DESCRIPTION:
DTSTART;TZID=America/Denver:20190627T090000
DTEND;TZID=America/Denver:20190627T103000
LOCATION:Neighborhood Center
SUMMARY:Coffee & Rolls
END:VEVENT
END:VCALENDAR
