BEGIN:VCALENDAR
VERSION:2.0
PRODID:-//www.rmdc.net//NONSGML kigkonsult.se iCalcreator 2.30.10//
CALSCALE:GREGORIAN
METHOD:PUBLISH
UID:e836d89b-3fe5-45b1-8932-da3d146431b9
X-WR-CALDESC:
X-WR-RELCALID:03bf2e03bdc6fb7e235412393ef894bc
X-WR-TIMEZONE:America/Denver
BEGIN:VTIMEZONE
TZID:America/Denver
BEGIN:STANDARD
TZNAME:MST
DTSTART:20181104T020000
TZOFFSETFROM:-0600
TZOFFSETTO:-0700
RDATE:20191103T020000
RDATE:20201101T020000
END:STANDARD
BEGIN:DAYLIGHT
TZNAME:MDT
DTSTART:20190310T020000
TZOFFSETFROM:-0700
TZOFFSETTO:-0600
RDATE:20200308T020000
END:DAYLIGHT
END:VTIMEZONE
BEGIN:VEVENT
UID:abaa881c-b8b7-424d-8eaa-dbaad2c844a2
DTSTAMP:20260424T190311Z
DESCRIPTION:
DTSTART;TZID=America/Denver:20190627T130000
DTEND;TZID=America/Denver:20190627T143000
LOCATION:
SUMMARY:Head Start Policy Council Meeting
END:VEVENT
END:VCALENDAR
