BEGIN:VCALENDAR
VERSION:2.0
PRODID:-//www.rmdc.net//NONSGML kigkonsult.se iCalcreator 2.30.10//
CALSCALE:GREGORIAN
METHOD:PUBLISH
UID:f65b1819-aaa9-4fb0-9c11-9964d5ea85a7
X-WR-CALDESC:
X-WR-RELCALID:64d30ff7fbfcd980c0d1766a544c005d
X-WR-TIMEZONE:America/Denver
BEGIN:VTIMEZONE
TZID:America/Denver
BEGIN:STANDARD
TZNAME:MST
DTSTART:20181104T020000
TZOFFSETFROM:-0600
TZOFFSETTO:-0700
RDATE:20191103T020000
RDATE:20201101T020000
END:STANDARD
BEGIN:DAYLIGHT
TZNAME:MDT
DTSTART:20190310T020000
TZOFFSETFROM:-0700
TZOFFSETTO:-0600
RDATE:20200308T020000
END:DAYLIGHT
END:VTIMEZONE
BEGIN:VEVENT
UID:4e299ccb-44dd-44dc-ad7e-c176377a7778
DTSTAMP:20260424T173848Z
DESCRIPTION:
DTSTART;TZID=America/Denver:20190701T123000
DTEND;TZID=America/Denver:20190701T133000
LOCATION:Neighborhood Center Card Room
SUMMARY:Mahjong
END:VEVENT
END:VCALENDAR
