BEGIN:VCALENDAR
VERSION:2.0
PRODID:-//www.rmdc.net//NONSGML kigkonsult.se iCalcreator 2.30.10//
CALSCALE:GREGORIAN
METHOD:PUBLISH
UID:a16b3de6-5af8-45ec-a192-1164ade5a66e
X-WR-CALDESC:
X-WR-RELCALID:5a0c106272d61eecdf209da057c25f34
X-WR-TIMEZONE:America/Denver
BEGIN:VTIMEZONE
TZID:America/Denver
BEGIN:STANDARD
TZNAME:MST
DTSTART:20181104T020000
TZOFFSETFROM:-0600
TZOFFSETTO:-0700
RDATE:20191103T020000
RDATE:20201101T020000
END:STANDARD
BEGIN:DAYLIGHT
TZNAME:MDT
DTSTART:20190310T020000
TZOFFSETFROM:-0700
TZOFFSETTO:-0600
RDATE:20200308T020000
END:DAYLIGHT
END:VTIMEZONE
BEGIN:VEVENT
UID:72c6f8c4-03cc-4702-95ce-6915ecdc254e
DTSTAMP:20260424T173817Z
DESCRIPTION:
DTSTART;TZID=America/Denver:20190717T130000
DTEND;TZID=America/Denver:20190717T150000
LOCATION:Neighborhood Center
SUMMARY:BINGO
END:VEVENT
END:VCALENDAR
