BEGIN:VCALENDAR
VERSION:2.0
PRODID:-//www.rmdc.net//NONSGML kigkonsult.se iCalcreator 2.30.10//
CALSCALE:GREGORIAN
METHOD:PUBLISH
UID:8c3f973c-bc27-469d-a290-f913f1efd262
X-WR-CALDESC:
X-WR-RELCALID:ec5830d9124d4266c92d6d8e445634d0
X-WR-TIMEZONE:America/Denver
BEGIN:VTIMEZONE
TZID:America/Denver
BEGIN:STANDARD
TZNAME:MST
DTSTART:20181104T020000
TZOFFSETFROM:-0600
TZOFFSETTO:-0700
RDATE:20191103T020000
RDATE:20201101T020000
END:STANDARD
BEGIN:DAYLIGHT
TZNAME:MDT
DTSTART:20190310T020000
TZOFFSETFROM:-0700
TZOFFSETTO:-0600
RDATE:20200308T020000
END:DAYLIGHT
END:VTIMEZONE
BEGIN:VEVENT
UID:77ad2617-bf2f-47de-be26-b10934a9c2e6
DTSTAMP:20260424T174157Z
DESCRIPTION:
DTSTART;TZID=America/Denver:20190724T090000
DTEND;TZID=America/Denver:20190724T100000
LOCATION:Neighborhood Center
SUMMARY:Senior Advisory Council Meeting
END:VEVENT
END:VCALENDAR
