BEGIN:VCALENDAR
VERSION:2.0
PRODID:-//www.rmdc.net//NONSGML kigkonsult.se iCalcreator 2.30.10//
CALSCALE:GREGORIAN
METHOD:PUBLISH
UID:936f0fa2-fc7c-4b77-8c1c-4b7133c0512e
X-WR-CALDESC:
X-WR-RELCALID:fe7853bcb6c66cdd94cbaa5be7870e11
X-WR-TIMEZONE:America/Denver
BEGIN:VTIMEZONE
TZID:America/Denver
BEGIN:STANDARD
TZNAME:MST
DTSTART:20181104T020000
TZOFFSETFROM:-0600
TZOFFSETTO:-0700
RDATE:20191103T020000
RDATE:20201101T020000
END:STANDARD
BEGIN:DAYLIGHT
TZNAME:MDT
DTSTART:20190310T020000
TZOFFSETFROM:-0700
TZOFFSETTO:-0600
RDATE:20200308T020000
END:DAYLIGHT
END:VTIMEZONE
BEGIN:VEVENT
UID:20c19bd0-1631-4be3-8764-c1b760701788
DTSTAMP:20260424T173948Z
DESCRIPTION:
DTSTART;TZID=America/Denver:20190725T130000
DTEND;TZID=America/Denver:20190725T143000
LOCATION:
SUMMARY:Head Start Policy Council Meeting
END:VEVENT
END:VCALENDAR
