BEGIN:VCALENDAR
VERSION:2.0
PRODID:-//www.rmdc.net//NONSGML kigkonsult.se iCalcreator 2.30.10//
CALSCALE:GREGORIAN
METHOD:PUBLISH
UID:b03bd0c1-771b-4954-a7b0-71291bd4f8de
X-WR-CALDESC:
X-WR-RELCALID:42a10e10b67b0e3c4e1d817c44766777
X-WR-TIMEZONE:America/Denver
BEGIN:VTIMEZONE
TZID:America/Denver
BEGIN:STANDARD
TZNAME:MST
DTSTART:20181104T020000
TZOFFSETFROM:-0600
TZOFFSETTO:-0700
RDATE:20191103T020000
RDATE:20201101T020000
END:STANDARD
BEGIN:DAYLIGHT
TZNAME:MDT
DTSTART:20190310T020000
TZOFFSETFROM:-0700
TZOFFSETTO:-0600
RDATE:20200308T020000
END:DAYLIGHT
END:VTIMEZONE
BEGIN:VEVENT
UID:ab142bc3-e32f-423d-a09a-0ee7618a955b
DTSTAMP:20260424T173738Z
DESCRIPTION:
DTSTART;TZID=America/Denver:20190731T100000
DTEND;TZID=America/Denver:20190731T110000
LOCATION:Neighborhood Center Card Room
SUMMARY:Self Directed Exercise Class
END:VEVENT
END:VCALENDAR
