BEGIN:VCALENDAR
VERSION:2.0
PRODID:-//www.rmdc.net//NONSGML kigkonsult.se iCalcreator 2.30.10//
CALSCALE:GREGORIAN
METHOD:PUBLISH
UID:edf71a9e-4ebd-47f0-98b8-51f727370e4e
X-WR-CALDESC:
X-WR-RELCALID:b6124c3ea04cd3c593615985d6a5e216
X-WR-TIMEZONE:America/Denver
BEGIN:VTIMEZONE
TZID:America/Denver
BEGIN:STANDARD
TZNAME:MST
DTSTART:20181104T020000
TZOFFSETFROM:-0600
TZOFFSETTO:-0700
RDATE:20191103T020000
RDATE:20201101T020000
END:STANDARD
BEGIN:DAYLIGHT
TZNAME:MDT
DTSTART:20190310T020000
TZOFFSETFROM:-0700
TZOFFSETTO:-0600
RDATE:20200308T020000
END:DAYLIGHT
END:VTIMEZONE
BEGIN:VEVENT
UID:e1d4b3a6-62e1-4ec2-901e-53f6dc48ed89
DTSTAMP:20260424T151441Z
DESCRIPTION:
DTSTART;TZID=America/Denver:20190804T130000
DTEND;TZID=America/Denver:20190804T140000
LOCATION:Neighborhood Center Card Room
SUMMARY:Pinochle
END:VEVENT
END:VCALENDAR
