BEGIN:VCALENDAR
VERSION:2.0
PRODID:-//www.rmdc.net//NONSGML kigkonsult.se iCalcreator 2.30.10//
CALSCALE:GREGORIAN
METHOD:PUBLISH
UID:19feb758-af2c-429b-8584-1d96cc2c13f8
X-WR-CALDESC:
X-WR-RELCALID:25bbafa995fddcb6872d24ba2a9927de
X-WR-TIMEZONE:America/Denver
BEGIN:VTIMEZONE
TZID:America/Denver
BEGIN:STANDARD
TZNAME:MST
DTSTART:20181104T020000
TZOFFSETFROM:-0600
TZOFFSETTO:-0700
RDATE:20191103T020000
RDATE:20201101T020000
END:STANDARD
BEGIN:DAYLIGHT
TZNAME:MDT
DTSTART:20190310T020000
TZOFFSETFROM:-0700
TZOFFSETTO:-0600
RDATE:20200308T020000
END:DAYLIGHT
END:VTIMEZONE
BEGIN:VEVENT
UID:84374b33-f6f1-40a0-b6bc-5cca08909fdd
DTSTAMP:20260424T162217Z
DESCRIPTION:
DTSTART;TZID=America/Denver:20190815T130000
DTEND;TZID=America/Denver:20190815T140000
LOCATION:Neighborhood Center Dance Floor/Dining Room
SUMMARY:Helena Sketchers
END:VEVENT
END:VCALENDAR
