BEGIN:VCALENDAR
VERSION:2.0
PRODID:-//www.rmdc.net//NONSGML kigkonsult.se iCalcreator 2.30.10//
CALSCALE:GREGORIAN
METHOD:PUBLISH
UID:689b027a-a3e6-4195-b7d4-984eacdb80fa
X-WR-CALDESC:Rocky Mountain Development Council offers a monthly Homebuyer 
 Education class. The purpose of the class is to teach potential homeowners
  about the process of purchasing a home.\n\nWHAT IS HOMEBUYER EDUCATION CL
 ASS FOR?\nHomebuyer Education classes provide in-depth information on many
  aspects of homeownership including:\n- Budgeting\n- Finding a home\n- Cho
 osing a lender/closing on a loan\n- Homeowner’s insurance\n- Home inspecti
 on & maintenance\n- Energy savings\n\n* Please note that class registratio
 n is nonrefundable. Registration also requires a 60-minute intake/counseli
 ng appointment prior to class. \n\n
X-WR-RELCALID:837c1314c2aae5883f2e9a070592ef76
X-WR-TIMEZONE:America/Denver
BEGIN:VTIMEZONE
TZID:America/Denver
BEGIN:STANDARD
TZNAME:MST
DTSTART:20181104T020000
TZOFFSETFROM:-0600
TZOFFSETTO:-0700
RDATE:20191103T020000
RDATE:20201101T020000
END:STANDARD
BEGIN:DAYLIGHT
TZNAME:MDT
DTSTART:20190310T020000
TZOFFSETFROM:-0700
TZOFFSETTO:-0600
RDATE:20200308T020000
END:DAYLIGHT
END:VTIMEZONE
BEGIN:VEVENT
UID:843da0c3-7da1-4eac-a6ec-d722c4793c33
DTSTAMP:20260424T164038Z
DESCRIPTION:Rocky Mountain Development Council offers a monthly Homebuyer E
 ducation class. The purpose of the class is to teach potential homeowners 
 about the process of purchasing a home.\n\nWHAT IS HOMEBUYER EDUCATION CLA
 SS FOR?\nHomebuyer Education classes provide in-depth information on many 
 aspects of homeownership including:\n- Budgeting\n- Finding a home\n- Choo
 sing a lender/closing on a loan\n- Homeowner’s insurance\n- Home inspectio
 n & maintenance\n- Energy savings\n\n* Please note that class registration
  is nonrefundable. Registration also requires a 60-minute intake/counselin
 g appointment prior to class. \n\n
DTSTART;TZID=America/Denver:20190817T080000
DTEND;TZID=America/Denver:20190817T160000
LOCATION:Rocky's Neighborhood Center  - 200 South Cruse Avenue\, Helena MT 
 59601
SUMMARY:Rocky's Homebuyer Education Class - August
END:VEVENT
END:VCALENDAR
