BEGIN:VCALENDAR
VERSION:2.0
PRODID:-//www.rmdc.net//NONSGML kigkonsult.se iCalcreator 2.30.10//
CALSCALE:GREGORIAN
METHOD:PUBLISH
UID:8dff3a0e-ab63-46c5-8f23-5f92d7116f95
X-WR-CALDESC:
X-WR-RELCALID:8f86677a38d96977daa8a7de72779733
X-WR-TIMEZONE:America/Denver
BEGIN:VTIMEZONE
TZID:America/Denver
BEGIN:STANDARD
TZNAME:MST
DTSTART:20181104T020000
TZOFFSETFROM:-0600
TZOFFSETTO:-0700
RDATE:20191103T020000
RDATE:20201101T020000
END:STANDARD
BEGIN:DAYLIGHT
TZNAME:MDT
DTSTART:20190310T020000
TZOFFSETFROM:-0700
TZOFFSETTO:-0600
RDATE:20200308T020000
END:DAYLIGHT
END:VTIMEZONE
BEGIN:VEVENT
UID:0a0a068c-7f71-4ed6-af98-cfef0c53bb1d
DTSTAMP:20260424T151353Z
DESCRIPTION:
DTSTART;TZID=America/Denver:20190911T104500
DTEND;TZID=America/Denver:20190911T114500
LOCATION:Neighborhood Center Card Room
SUMMARY:Tai Chi Exercise Class
END:VEVENT
END:VCALENDAR
