BEGIN:VCALENDAR
VERSION:2.0
PRODID:-//www.rmdc.net//NONSGML kigkonsult.se iCalcreator 2.30.10//
CALSCALE:GREGORIAN
METHOD:PUBLISH
UID:a4a01339-f99d-4b62-912b-b1e3623a772e
X-WR-CALDESC:
X-WR-RELCALID:73a6ad80aca0fc8d1101e23392a7b26e
X-WR-TIMEZONE:America/Denver
BEGIN:VTIMEZONE
TZID:America/Denver
BEGIN:STANDARD
TZNAME:MST
DTSTART:20181104T020000
TZOFFSETFROM:-0600
TZOFFSETTO:-0700
RDATE:20191103T020000
RDATE:20201101T020000
END:STANDARD
BEGIN:DAYLIGHT
TZNAME:MDT
DTSTART:20190310T020000
TZOFFSETFROM:-0700
TZOFFSETTO:-0600
RDATE:20200308T020000
RDATE:20210314T020000
END:DAYLIGHT
END:VTIMEZONE
BEGIN:VEVENT
UID:03770465-f5fd-4ce0-bcb9-0b77c20666f3
DTSTAMP:20260424T134201Z
DESCRIPTION:
DTSTART;TZID=America/Denver:20190916T100000
DTEND;TZID=America/Denver:20190916T110000
LOCATION:Neighborhood Center Card Room
SUMMARY:Self-Directed Exercise Class
END:VEVENT
END:VCALENDAR
