BEGIN:VCALENDAR
VERSION:2.0
PRODID:-//www.rmdc.net//NONSGML kigkonsult.se iCalcreator 2.30.10//
CALSCALE:GREGORIAN
METHOD:PUBLISH
UID:669b9074-c5f4-40cb-9936-b6360424a5cd
X-WR-CALDESC:
X-WR-RELCALID:ff9148319ada66aa0bb8c70524eb5e3e
X-WR-TIMEZONE:America/Denver
BEGIN:VTIMEZONE
TZID:America/Denver
BEGIN:STANDARD
TZNAME:MST
DTSTART:20181104T020000
TZOFFSETFROM:-0600
TZOFFSETTO:-0700
RDATE:20191103T020000
RDATE:20201101T020000
END:STANDARD
BEGIN:DAYLIGHT
TZNAME:MDT
DTSTART:20190310T020000
TZOFFSETFROM:-0700
TZOFFSETTO:-0600
RDATE:20200308T020000
RDATE:20210314T020000
END:DAYLIGHT
END:VTIMEZONE
BEGIN:VEVENT
UID:bc26eb4f-0d1e-4346-afc6-0f098aee7faa
DTSTAMP:20260424T151439Z
DESCRIPTION:
DTSTART;TZID=America/Denver:20190919T080000
DTEND;TZID=America/Denver:20190919T140000
LOCATION:Neighborhood Center - Room 15
SUMMARY:Hearing Aid Clinic
END:VEVENT
END:VCALENDAR
