BEGIN:VCALENDAR
VERSION:2.0
PRODID:-//www.rmdc.net//NONSGML kigkonsult.se iCalcreator 2.30.10//
CALSCALE:GREGORIAN
METHOD:PUBLISH
UID:4b978604-6a55-47a8-8411-2be883d477bf
X-WR-CALDESC:The Red Alder Residences project is ready to begin constructio
 n\, and to celebrate\, we are holding a Groundbreaking Ceremony. Bring you
 r friends\, family\, and shovels to help us kick off construction and cele
 brate this special community achievement.\n\nThe groundbreaking will take 
 place at the Red Alder Residences project site\, which is located at 2200 
 Henderson Street (at the intersection of Henderson St. and Brady St.)
X-WR-RELCALID:7036b14668c351db5e124a14ea6c17ec
X-WR-TIMEZONE:America/Denver
BEGIN:VTIMEZONE
TZID:America/Denver
BEGIN:STANDARD
TZNAME:MST
DTSTART:20181104T020000
TZOFFSETFROM:-0600
TZOFFSETTO:-0700
RDATE:20191103T020000
RDATE:20201101T020000
END:STANDARD
BEGIN:DAYLIGHT
TZNAME:MDT
DTSTART:20190310T020000
TZOFFSETFROM:-0700
TZOFFSETTO:-0600
RDATE:20200308T020000
RDATE:20210314T020000
END:DAYLIGHT
END:VTIMEZONE
BEGIN:VEVENT
UID:19e124c6-77c3-4583-a594-cda53f9d8344
DTSTAMP:20260424T151318Z
DESCRIPTION:The Red Alder Residences project is ready to begin construction
 \, and to celebrate\, we are holding a Groundbreaking Ceremony. Bring your
  friends\, family\, and shovels to help us kick off construction and celeb
 rate this special community achievement.\n\nThe groundbreaking will take p
 lace at the Red Alder Residences project site\, which is located at 2200 H
 enderson Street (at the intersection of Henderson St. and Brady St.)
DTSTART;TZID=America/Denver:20190920T133000
DTEND;TZID=America/Denver:20190920T143000
LOCATION:2200 Henderson St. (the intersection of Henderson St. and Brady St
 .)
SUMMARY:Red Alder Residences Groundbreaking
END:VEVENT
END:VCALENDAR
