BEGIN:VCALENDAR
VERSION:2.0
PRODID:-//www.rmdc.net//NONSGML kigkonsult.se iCalcreator 2.30.10//
CALSCALE:GREGORIAN
METHOD:PUBLISH
UID:7db5bebf-a172-43e5-9193-9c40b376c17c
X-WR-CALDESC:Stepping On is an evidence-based fall prevention program that 
 reduces falls among participants. The Stepping On course is a seven-week p
 rogram designed to help older adults reduce their risk of falls. The class
  is in the Card Room of the Neighborhood Center.
X-WR-RELCALID:39efb72cf6aeb4d927492a8382fe8f4b
X-WR-TIMEZONE:America/Denver
BEGIN:VTIMEZONE
TZID:America/Denver
BEGIN:STANDARD
TZNAME:MST
DTSTART:20181104T020000
TZOFFSETFROM:-0600
TZOFFSETTO:-0700
RDATE:20191103T020000
RDATE:20201101T020000
END:STANDARD
BEGIN:DAYLIGHT
TZNAME:MDT
DTSTART:20190310T020000
TZOFFSETFROM:-0700
TZOFFSETTO:-0600
RDATE:20200308T020000
RDATE:20210314T020000
END:DAYLIGHT
END:VTIMEZONE
BEGIN:VEVENT
UID:4a14df78-c8ac-487a-8dc0-103e5b745e51
DTSTAMP:20260424T121124Z
DESCRIPTION:Stepping On is an evidence-based fall prevention program that r
 educes falls among participants. The Stepping On course is a seven-week pr
 ogram designed to help older adults reduce their risk of falls. The class 
 is in the Card Room of the Neighborhood Center.
DTSTART;TZID=America/Denver:20191002T123000
DTEND;TZID=America/Denver:20191002T143000
LOCATION:200 South Cruse Ave\, Helena MT 59601
SUMMARY:Stepping On
END:VEVENT
END:VCALENDAR
