BEGIN:VCALENDAR
VERSION:2.0
PRODID:-//www.rmdc.net//NONSGML kigkonsult.se iCalcreator 2.30.10//
CALSCALE:GREGORIAN
METHOD:PUBLISH
UID:a27798f9-83b3-4011-94af-00ff93e980a0
X-WR-CALDESC:
X-WR-RELCALID:1496fe3b2b733345297fdc094b7454a2
X-WR-TIMEZONE:America/Denver
BEGIN:VTIMEZONE
TZID:America/Denver
BEGIN:STANDARD
TZNAME:MST
DTSTART:20181104T020000
TZOFFSETFROM:-0600
TZOFFSETTO:-0700
RDATE:20191103T020000
RDATE:20201101T020000
END:STANDARD
BEGIN:DAYLIGHT
TZNAME:MDT
DTSTART:20190310T020000
TZOFFSETFROM:-0700
TZOFFSETTO:-0600
RDATE:20200308T020000
RDATE:20210314T020000
END:DAYLIGHT
END:VTIMEZONE
BEGIN:VEVENT
UID:af43a6ba-265f-4134-b8fb-96e56ce1d840
DTSTAMP:20260424T121554Z
DESCRIPTION:
DTSTART;TZID=America/Denver:20191023T090000
DTEND;TZID=America/Denver:20191023T100000
LOCATION:Neighborhood Center
SUMMARY:Senior Advisory Council Meeting
END:VEVENT
END:VCALENDAR
