BEGIN:VCALENDAR
VERSION:2.0
PRODID:-//www.rmdc.net//NONSGML kigkonsult.se iCalcreator 2.30.10//
CALSCALE:GREGORIAN
METHOD:PUBLISH
UID:e2a6a2d2-8b9d-41bb-aca3-c0f874518f27
X-WR-CALDESC:
X-WR-RELCALID:3ef92ed3cba8255dc23ef51f83c27ab5
X-WR-TIMEZONE:America/Denver
BEGIN:VTIMEZONE
TZID:America/Denver
BEGIN:STANDARD
TZNAME:MST
DTSTART:20181104T020000
TZOFFSETFROM:-0600
TZOFFSETTO:-0700
RDATE:20191103T020000
RDATE:20201101T020000
END:STANDARD
BEGIN:DAYLIGHT
TZNAME:MDT
DTSTART:20190310T020000
TZOFFSETFROM:-0700
TZOFFSETTO:-0600
RDATE:20200308T020000
RDATE:20210314T020000
END:DAYLIGHT
END:VTIMEZONE
BEGIN:VEVENT
UID:cda7aba7-a745-4136-a24b-32ab8a7b5ab6
DTSTAMP:20260424T120847Z
DESCRIPTION:
DTSTART;TZID=America/Denver:20191023T100000
DTEND;TZID=America/Denver:20191023T110000
LOCATION:Neighborhood Center Card Room
SUMMARY:Self Directed Exercise Class
END:VEVENT
END:VCALENDAR
