BEGIN:VCALENDAR
VERSION:2.0
PRODID:-//www.rmdc.net//NONSGML kigkonsult.se iCalcreator 2.30.10//
CALSCALE:GREGORIAN
METHOD:PUBLISH
UID:b2d2c83c-7e6a-4cbe-9216-6bbe59bb9446
X-WR-CALDESC:
X-WR-RELCALID:b0abaf94e2cb66ecedb6d96657ddf17b
X-WR-TIMEZONE:America/Denver
BEGIN:VTIMEZONE
TZID:America/Denver
BEGIN:STANDARD
TZNAME:MST
DTSTART:20181104T020000
TZOFFSETFROM:-0600
TZOFFSETTO:-0700
RDATE:20191103T020000
RDATE:20201101T020000
END:STANDARD
BEGIN:DAYLIGHT
TZNAME:MDT
DTSTART:20190310T020000
TZOFFSETFROM:-0700
TZOFFSETTO:-0600
RDATE:20200308T020000
RDATE:20210314T020000
END:DAYLIGHT
END:VTIMEZONE
BEGIN:VEVENT
UID:9e0aa6c4-dc8f-4455-b743-6b195e015e77
DTSTAMP:20260424T122151Z
DESCRIPTION:
DTSTART;TZID=America/Denver:20191031T153000
DTEND;TZID=America/Denver:20191031T173000
LOCATION:Neighborhood Center - Card Room
SUMMARY:Rocky Board of Directors Meeting
END:VEVENT
END:VCALENDAR
