BEGIN:VCALENDAR
VERSION:2.0
PRODID:-//www.rmdc.net//NONSGML kigkonsult.se iCalcreator 2.30.10//
CALSCALE:GREGORIAN
METHOD:PUBLISH
UID:b4fe0100-2191-4a5c-a650-388eb8225f7b
X-WR-CALDESC:
X-WR-RELCALID:43457a77bd70d50bc4f1b29afbda467f
X-WR-TIMEZONE:America/Denver
BEGIN:VTIMEZONE
TZID:America/Denver
BEGIN:STANDARD
TZNAME:MST
DTSTART:20191103T020000
TZOFFSETFROM:-0600
TZOFFSETTO:-0700
RDATE:20201101T020000
END:STANDARD
BEGIN:DAYLIGHT
TZNAME:MDT
DTSTART:20190310T020000
TZOFFSETFROM:-0700
TZOFFSETTO:-0600
RDATE:20200308T020000
RDATE:20210314T020000
END:DAYLIGHT
END:VTIMEZONE
BEGIN:VEVENT
UID:2f94ef12-ab1b-43c4-a4bd-aa0f79e0594b
DTSTAMP:20260424T110919Z
DESCRIPTION:
DTSTART;TZID=America/Denver:20191105T130000
DTEND;TZID=America/Denver:20191105T150000
LOCATION:Neighborhood Center Card Room & Dance Floor
SUMMARY:Cards: Pinochle\, Bridge & Cribbage
END:VEVENT
END:VCALENDAR
