BEGIN:VCALENDAR
VERSION:2.0
PRODID:-//www.rmdc.net//NONSGML kigkonsult.se iCalcreator 2.30.10//
CALSCALE:GREGORIAN
METHOD:PUBLISH
UID:dd37a2b5-b932-4244-8e48-d8c07d31e16b
X-WR-CALDESC:
X-WR-RELCALID:d384e75bbf416e28f0f9691e32dbc2e1
X-WR-TIMEZONE:America/Denver
BEGIN:VTIMEZONE
TZID:America/Denver
BEGIN:STANDARD
TZNAME:MST
DTSTART:20191103T020000
TZOFFSETFROM:-0600
TZOFFSETTO:-0700
RDATE:20201101T020000
END:STANDARD
BEGIN:DAYLIGHT
TZNAME:MDT
DTSTART:20190310T020000
TZOFFSETFROM:-0700
TZOFFSETTO:-0600
RDATE:20200308T020000
RDATE:20210314T020000
END:DAYLIGHT
END:VTIMEZONE
BEGIN:VEVENT
UID:d7b41043-765b-44b0-b54f-fe3ea6178347
DTSTAMP:20260424T110518Z
DESCRIPTION:
DTSTART;TZID=America/Denver:20191114T093000
DTEND;TZID=America/Denver:20191114T110000
LOCATION:Neighborhood Center Dining Room
SUMMARY:Blood Pressure Clinic
END:VEVENT
END:VCALENDAR
