BEGIN:VCALENDAR
VERSION:2.0
PRODID:-//www.rmdc.net//NONSGML kigkonsult.se iCalcreator 2.30.10//
CALSCALE:GREGORIAN
METHOD:PUBLISH
UID:00471317-6c19-42eb-890b-8a32a17f0f41
X-WR-CALDESC:
X-WR-RELCALID:e67e37b29956152b78ded71f01d60e86
X-WR-TIMEZONE:America/Denver
BEGIN:VTIMEZONE
TZID:America/Denver
BEGIN:STANDARD
TZNAME:MST
DTSTART:20191103T020000
TZOFFSETFROM:-0600
TZOFFSETTO:-0700
RDATE:20201101T020000
END:STANDARD
BEGIN:DAYLIGHT
TZNAME:MDT
DTSTART:20190310T020000
TZOFFSETFROM:-0700
TZOFFSETTO:-0600
RDATE:20200308T020000
RDATE:20210314T020000
END:DAYLIGHT
END:VTIMEZONE
BEGIN:VEVENT
UID:26ac490e-2011-4ea3-9101-98ebd7dc4dcf
DTSTAMP:20260424T110220Z
DESCRIPTION:
DTSTART;TZID=America/Denver:20191121T080000
DTEND;TZID=America/Denver:20191121T140000
LOCATION:Neighborhood Center - Room 15
SUMMARY:Hearing Aid Clinic
END:VEVENT
END:VCALENDAR
