BEGIN:VCALENDAR
VERSION:2.0
PRODID:-//www.rmdc.net//NONSGML kigkonsult.se iCalcreator 2.30.10//
CALSCALE:GREGORIAN
METHOD:PUBLISH
UID:c0a44019-50df-4a65-ba9c-b5aa049e9afa
X-WR-CALDESC:Stepping On is an evidence-based fall prevention program that 
 reduces falls among participants. The Stepping On course is a seven-week p
 rogram designed to help older adults reduce their risk of falls. The class
  is in the Card Room of the Neighborhood Center.
X-WR-RELCALID:a6a9380893141047bfb18cdd7fa03be4
X-WR-TIMEZONE:America/Denver
BEGIN:VTIMEZONE
TZID:America/Denver
BEGIN:STANDARD
TZNAME:MST
DTSTART:20191103T020000
TZOFFSETFROM:-0600
TZOFFSETTO:-0700
RDATE:20201101T020000
END:STANDARD
BEGIN:DAYLIGHT
TZNAME:MDT
DTSTART:20190310T020000
TZOFFSETFROM:-0700
TZOFFSETTO:-0600
RDATE:20200308T020000
RDATE:20210314T020000
END:DAYLIGHT
END:VTIMEZONE
BEGIN:VEVENT
UID:be47c5b4-de2d-4a07-8267-a6fc234b81b0
DTSTAMP:20260424T105533Z
DESCRIPTION:Stepping On is an evidence-based fall prevention program that r
 educes falls among participants. The Stepping On course is a seven-week pr
 ogram designed to help older adults reduce their risk of falls. The class 
 is in the Card Room of the Neighborhood Center.
DTSTART;TZID=America/Denver:20191127T123000
DTEND;TZID=America/Denver:20191127T143000
LOCATION:200 South Cruse Ave\, Helena MT 59601
SUMMARY:Stepping On
END:VEVENT
END:VCALENDAR
