BEGIN:VCALENDAR
VERSION:2.0
PRODID:-//www.rmdc.net//NONSGML kigkonsult.se iCalcreator 2.30.10//
CALSCALE:GREGORIAN
METHOD:PUBLISH
UID:c5221074-d0e2-4b38-bf94-52890d653d21
X-WR-CALDESC:
X-WR-RELCALID:d396538105dcbb8045cab5da82a404e5
X-WR-TIMEZONE:America/Denver
BEGIN:VTIMEZONE
TZID:America/Denver
BEGIN:STANDARD
TZNAME:MST
DTSTART:20191103T020000
TZOFFSETFROM:-0600
TZOFFSETTO:-0700
RDATE:20201101T020000
END:STANDARD
BEGIN:DAYLIGHT
TZNAME:MDT
DTSTART:20190310T020000
TZOFFSETFROM:-0700
TZOFFSETTO:-0600
RDATE:20200308T020000
RDATE:20210314T020000
END:DAYLIGHT
END:VTIMEZONE
BEGIN:VEVENT
UID:41f97440-df82-4ae4-8136-96f77fafce03
DTSTAMP:20260424T093828Z
DESCRIPTION:
DTSTART;TZID=America/Denver:20191205T080000
DTEND;TZID=America/Denver:20191205T140000
LOCATION:Neighborhood Center - Room 15
SUMMARY:Hearing Aid Clinic
END:VEVENT
END:VCALENDAR
