BEGIN:VCALENDAR
VERSION:2.0
PRODID:-//www.rmdc.net//NONSGML kigkonsult.se iCalcreator 2.30.10//
CALSCALE:GREGORIAN
METHOD:PUBLISH
UID:aac85f29-afd6-4137-bbe9-a6495410f33b
X-WR-CALDESC:
X-WR-RELCALID:b8547dd109c4cbdfdbb126d2a8ebadb1
X-WR-TIMEZONE:America/Denver
BEGIN:VTIMEZONE
TZID:America/Denver
BEGIN:STANDARD
TZNAME:MST
DTSTART:20191103T020000
TZOFFSETFROM:-0600
TZOFFSETTO:-0700
RDATE:20201101T020000
END:STANDARD
BEGIN:DAYLIGHT
TZNAME:MDT
DTSTART:20190310T020000
TZOFFSETFROM:-0700
TZOFFSETTO:-0600
RDATE:20200308T020000
RDATE:20210314T020000
END:DAYLIGHT
END:VTIMEZONE
BEGIN:VEVENT
UID:139d8d18-1e9b-4717-b513-c7f2a734bcc4
DTSTAMP:20260424T093829Z
DESCRIPTION:
DTSTART;TZID=America/Denver:20191226T130000
DTEND;TZID=America/Denver:20191226T140000
LOCATION:Neighborhood Center Dance Floor
SUMMARY:Wood Carving
END:VEVENT
END:VCALENDAR
