BEGIN:VCALENDAR
VERSION:2.0
PRODID:-//www.rmdc.net//NONSGML kigkonsult.se iCalcreator 2.30.10//
CALSCALE:GREGORIAN
METHOD:PUBLISH
UID:404bae65-8feb-4a0e-bd4d-a6e4eeebfa31
X-WR-CALDESC:
X-WR-RELCALID:43a7065b797f67624fb41f8bc1202e31
X-WR-TIMEZONE:America/Denver
BEGIN:VTIMEZONE
TZID:America/Denver
BEGIN:STANDARD
TZNAME:MST
DTSTART:20191103T020000
TZOFFSETFROM:-0600
TZOFFSETTO:-0700
RDATE:20201101T020000
END:STANDARD
BEGIN:DAYLIGHT
TZNAME:MDT
DTSTART:20190310T020000
TZOFFSETFROM:-0700
TZOFFSETTO:-0600
RDATE:20200308T020000
RDATE:20210314T020000
END:DAYLIGHT
END:VTIMEZONE
BEGIN:VEVENT
UID:3bc563c5-d235-42ce-b4b9-57dc64de6c02
DTSTAMP:20260424T093707Z
DESCRIPTION:
DTSTART;TZID=America/Denver:20191227T104500
DTEND;TZID=America/Denver:20191227T114500
LOCATION:Neighborhood Center Card Room
SUMMARY:Tai Chi exercise Class
END:VEVENT
END:VCALENDAR
