BEGIN:VCALENDAR
VERSION:2.0
PRODID:-//www.rmdc.net//NONSGML kigkonsult.se iCalcreator 2.30.10//
CALSCALE:GREGORIAN
METHOD:PUBLISH
UID:0232c870-2e7b-4d67-abab-b06f7454745c
X-WR-CALDESC:
X-WR-RELCALID:16051b36ecec99c469adacedeb12c3bc
X-WR-TIMEZONE:America/Denver
BEGIN:VTIMEZONE
TZID:America/Denver
BEGIN:STANDARD
TZNAME:MST
DTSTART:20191103T020000
TZOFFSETFROM:-0600
TZOFFSETTO:-0700
RDATE:20201101T020000
END:STANDARD
BEGIN:DAYLIGHT
TZNAME:MDT
DTSTART:20190310T020000
TZOFFSETFROM:-0700
TZOFFSETTO:-0600
RDATE:20200308T020000
RDATE:20210314T020000
END:DAYLIGHT
END:VTIMEZONE
BEGIN:VEVENT
UID:5df5aeae-70b3-48d8-ba0f-1bdc2c8c9e7d
DTSTAMP:20260424T081719Z
DESCRIPTION:
DTSTART;TZID=America/Denver:20200102T130000
DTEND;TZID=America/Denver:20200102T140000
LOCATION:Neighborhood Center Dance Floor/Dining Room
SUMMARY:Helena Sketchers
END:VEVENT
END:VCALENDAR
