BEGIN:VCALENDAR
VERSION:2.0
PRODID:-//www.rmdc.net//NONSGML kigkonsult.se iCalcreator 2.30.10//
CALSCALE:GREGORIAN
METHOD:PUBLISH
UID:e7b08e33-cb7f-4644-925e-99a2f1aded09
X-WR-CALDESC:
X-WR-RELCALID:e5b902d52cc57506c766738193dd01ac
X-WR-TIMEZONE:America/Denver
BEGIN:VTIMEZONE
TZID:America/Denver
BEGIN:STANDARD
TZNAME:MST
DTSTART:20191103T020000
TZOFFSETFROM:-0600
TZOFFSETTO:-0700
RDATE:20201101T020000
END:STANDARD
BEGIN:DAYLIGHT
TZNAME:MDT
DTSTART:20190310T020000
TZOFFSETFROM:-0700
TZOFFSETTO:-0600
RDATE:20200308T020000
RDATE:20210314T020000
END:DAYLIGHT
END:VTIMEZONE
BEGIN:VEVENT
UID:eaaf4bcd-be11-41e5-bb5f-70e66c521ad6
DTSTAMP:20260424T081426Z
DESCRIPTION:
DTSTART;TZID=America/Denver:20200116T090000
DTEND;TZID=America/Denver:20200116T103000
LOCATION:Neighborhood Center
SUMMARY:Coffee & Rolls
END:VEVENT
END:VCALENDAR
