BEGIN:VCALENDAR
VERSION:2.0
PRODID:-//www.rmdc.net//NONSGML kigkonsult.se iCalcreator 2.30.10//
CALSCALE:GREGORIAN
METHOD:PUBLISH
UID:c54f2124-7a3c-42ff-ab07-d3f4fde5bcaf
X-WR-CALDESC:
X-WR-RELCALID:c4b3cdd6dca0ce95d5647666bf2a0b4e
X-WR-TIMEZONE:America/Denver
BEGIN:VTIMEZONE
TZID:America/Denver
BEGIN:STANDARD
TZNAME:MST
DTSTART:20191103T020000
TZOFFSETFROM:-0600
TZOFFSETTO:-0700
RDATE:20201101T020000
END:STANDARD
BEGIN:DAYLIGHT
TZNAME:MDT
DTSTART:20190310T020000
TZOFFSETFROM:-0700
TZOFFSETTO:-0600
RDATE:20200308T020000
RDATE:20210314T020000
END:DAYLIGHT
END:VTIMEZONE
BEGIN:VEVENT
UID:53196017-4d51-4aaa-ab20-6cc9209e7ffd
DTSTAMP:20260424T064403Z
DESCRIPTION:
DTSTART;TZID=America/Denver:20200205T130000
DTEND;TZID=America/Denver:20200205T150000
LOCATION:Neighborhood Center
SUMMARY:BINGO
END:VEVENT
END:VCALENDAR
