BEGIN:VCALENDAR
VERSION:2.0
PRODID:-//www.rmdc.net//NONSGML kigkonsult.se iCalcreator 2.30.10//
CALSCALE:GREGORIAN
METHOD:PUBLISH
UID:801b3c24-0cf0-4c63-a5a0-2df63cf96ede
X-WR-CALDESC:
X-WR-RELCALID:e3e59615bb64602e574fe033c06b9e27
X-WR-TIMEZONE:America/Denver
BEGIN:VTIMEZONE
TZID:America/Denver
BEGIN:STANDARD
TZNAME:MST
DTSTART:20191103T020000
TZOFFSETFROM:-0600
TZOFFSETTO:-0700
RDATE:20201101T020000
END:STANDARD
BEGIN:DAYLIGHT
TZNAME:MDT
DTSTART:20190310T020000
TZOFFSETFROM:-0700
TZOFFSETTO:-0600
RDATE:20200308T020000
RDATE:20210314T020000
END:DAYLIGHT
END:VTIMEZONE
BEGIN:VEVENT
UID:6e61ff40-620f-4361-a3fa-39b9b53f5863
DTSTAMP:20260424T064822Z
DESCRIPTION:
DTSTART;TZID=America/Denver:20200206T130000
DTEND;TZID=America/Denver:20200206T140000
LOCATION:Neighborhood Center Dance Floor/Dining Room
SUMMARY:Helena Sketchers
END:VEVENT
END:VCALENDAR
