BEGIN:VCALENDAR
VERSION:2.0
PRODID:-//www.rmdc.net//NONSGML kigkonsult.se iCalcreator 2.30.10//
CALSCALE:GREGORIAN
METHOD:PUBLISH
UID:2c4a2efc-aaa5-40a1-9ef0-e0f614824f56
X-WR-CALDESC:
X-WR-RELCALID:c597e3a59f0b0d3cb99aaa8fc64ba347
X-WR-TIMEZONE:America/Denver
BEGIN:VTIMEZONE
TZID:America/Denver
BEGIN:STANDARD
TZNAME:MST
DTSTART:20191103T020000
TZOFFSETFROM:-0600
TZOFFSETTO:-0700
RDATE:20201101T020000
END:STANDARD
BEGIN:DAYLIGHT
TZNAME:MDT
DTSTART:20190310T020000
TZOFFSETFROM:-0700
TZOFFSETTO:-0600
RDATE:20200308T020000
RDATE:20210314T020000
END:DAYLIGHT
END:VTIMEZONE
BEGIN:VEVENT
UID:26e0870a-8eca-425c-8c33-00458ee57ad0
DTSTAMP:20260424T070706Z
DESCRIPTION:
DTSTART;TZID=America/Denver:20200214T123000
DTEND;TZID=America/Denver:20200214T133000
LOCATION:Neighborhood Center Parlor
SUMMARY:Sew & Tell
END:VEVENT
END:VCALENDAR
