BEGIN:VCALENDAR
VERSION:2.0
PRODID:-//www.rmdc.net//NONSGML kigkonsult.se iCalcreator 2.30.10//
CALSCALE:GREGORIAN
METHOD:PUBLISH
UID:6212bc22-c58f-4980-b928-cd4b3562856c
X-WR-CALDESC:
X-WR-RELCALID:af575c41330cc9033d356013d62a3c0b
X-WR-TIMEZONE:America/Denver
BEGIN:VTIMEZONE
TZID:America/Denver
BEGIN:STANDARD
TZNAME:MST
DTSTART:20191103T020000
TZOFFSETFROM:-0600
TZOFFSETTO:-0700
RDATE:20201101T020000
END:STANDARD
BEGIN:DAYLIGHT
TZNAME:MDT
DTSTART:20190310T020000
TZOFFSETFROM:-0700
TZOFFSETTO:-0600
RDATE:20200308T020000
RDATE:20210314T020000
END:DAYLIGHT
END:VTIMEZONE
BEGIN:VEVENT
UID:74181c1e-e515-4ebf-9bba-34b713e0f865
DTSTAMP:20260424T070134Z
DESCRIPTION:
DTSTART;TZID=America/Denver:20200221T123000
DTEND;TZID=America/Denver:20200221T133000
LOCATION:Neighborhood Center Parlor
SUMMARY:Sew & Tell
END:VEVENT
END:VCALENDAR
